BEGIN:VCALENDAR
VERSION:2.0
PRODID:SchoolNow
CALSCALE:GREGORIAN
BEGIN:VEVENT
UID:f5102b88-76eb-11ec-b5a1-0a90e45c337f
DTSTAMP:20220116T164714Z
SUMMARY:Intro to Pickleball
LOCATION:Pickleball Court
URL;VALUE=URI:https://www.wildernesslakecdd.org/calendar/3075654/intro-to-p
 ickleball
DTSTART:20220318T140000Z
DTEND:20220318T160000Z
END:VEVENT
END:VCALENDAR
