BEGIN:VCALENDAR
VERSION:2.0
PRODID:SchoolNow
CALSCALE:GREGORIAN
BEGIN:VEVENT
UID:c7270412-76eb-11ec-80ac-0a90e45c337f
DTSTAMP:20220116T164557Z
SUMMARY:Leprechaun Safari
LOCATION:Lodge Campus
URL;VALUE=URI:https://www.wildernesslakecdd.org/calendar/3075653/leprechaun
 -safari
DTSTART:20220317T170000Z
DTEND:20220317T190000Z
END:VEVENT
END:VCALENDAR
