BEGIN:VCALENDAR
VERSION:2.0
PRODID:SchoolNow
CALSCALE:GREGORIAN
BEGIN:VEVENT
UID:a4d1bba0-76eb-11ec-97df-0a90e45c337f
DTSTAMP:20220116T164459Z
SUMMARY:Bounce House Mania & Badminton Challenge
LOCATION:Lodge Courtyard
URL;VALUE=URI:https://www.wildernesslakecdd.org/calendar/3075652/bounce-hou
 se-mania-badminton-challenge
DTSTART:20220316T170000Z
DTEND:20220316T190000Z
END:VEVENT
END:VCALENDAR
