BEGIN:VCALENDAR
VERSION:2.0
PRODID:SchoolNow
CALSCALE:GREGORIAN
BEGIN:VEVENT
UID:71db0bca-76eb-11ec-8254-0a90e45c337f
DTSTAMP:20220116T164334Z
SUMMARY:Taco Tuesday
LOCATION:Activities Center
URL;VALUE=URI:https://www.wildernesslakecdd.org/calendar/3075651/taco-tuesd
 ay
DTSTART:20220315T160000Z
DTEND:20220315T180000Z
END:VEVENT
END:VCALENDAR
