BEGIN:VCALENDAR
VERSION:2.0
PRODID:SchoolNow
CALSCALE:GREGORIAN
BEGIN:VEVENT
UID:a0002734-76ea-11ec-9cb7-0e96310e8401
DTSTAMP:20220116T163742Z
SUMMARY:Wine Tasting
LOCATION:Activities Center and Courtyard
URL;VALUE=URI:https://www.wildernesslakecdd.org/calendar/3075650/wine-tasti
 ng
DTSTART:20220311T230000Z
DTEND:20220312T010000Z
END:VEVENT
END:VCALENDAR
