BEGIN:VCALENDAR
VERSION:2.0
PRODID:SchoolNow
CALSCALE:GREGORIAN
BEGIN:VEVENT
UID:705edff2-76ea-11ec-bab2-0e96310e8401
DTSTAMP:20220116T163622Z
SUMMARY:Bunco
LOCATION:Activities Center
URL;VALUE=URI:https://www.wildernesslakecdd.org/calendar/3075649/bunco
DTSTART:20220216T000000Z
DTEND:20220216T013000Z
END:VEVENT
END:VCALENDAR
