BEGIN:VCALENDAR
VERSION:2.0
PRODID:SchoolNow
CALSCALE:GREGORIAN
BEGIN:VEVENT
UID:3f31138c-76ea-11ec-a9c1-0e96310e8401
DTSTAMP:20220116T163459Z
SUMMARY:Family Movie Night
LOCATION:Theatre
URL;VALUE=URI:https://www.wildernesslakecdd.org/calendar/3075648/family-mov
 ie-night
DTSTART:20220226T000000Z
DTEND:20220226T013000Z
END:VEVENT
END:VCALENDAR
