BEGIN:VCALENDAR
VERSION:2.0
PRODID:SchoolNow
CALSCALE:GREGORIAN
BEGIN:VEVENT
UID:14145ba0-76ea-11ec-9b30-0e96310e8401
DTSTAMP:20220116T163347Z
SUMMARY:NXT Generation Food Truck
LOCATION:Lodge Parking Lot
URL;VALUE=URI:https://www.wildernesslakecdd.org/calendar/3075647/nxt-genera
 tion-food-truck
DTSTART:20220225T220000Z
DTEND:20220226T010000Z
END:VEVENT
END:VCALENDAR
