BEGIN:VCALENDAR
VERSION:2.0
PRODID:SchoolNow
CALSCALE:GREGORIAN
BEGIN:VEVENT
UID:bcd388e8-76e9-11ec-b58f-0e96310e8401
DTSTAMP:20220116T163120Z
SUMMARY:Chat'hers Event
URL;VALUE=URI:https://www.wildernesslakecdd.org/calendar/3075646/chathers-e
 vent
DTSTART:20220224T170000Z
DTEND:20220224T200000Z
END:VEVENT
END:VCALENDAR
