BEGIN:VCALENDAR
VERSION:2.0
PRODID:SchoolNow
CALSCALE:GREGORIAN
BEGIN:VEVENT
UID:98de7d26-76e9-11ec-acfe-0e96310e8401
DTSTAMP:20220116T163020Z
SUMMARY:Art Class
LOCATION:Activities Center
URL;VALUE=URI:https://www.wildernesslakecdd.org/calendar/3075645/art-class
DTSTART:20220219T170000Z
DTEND:20220219T200000Z
END:VEVENT
END:VCALENDAR
