BEGIN:VCALENDAR
VERSION:2.0
PRODID:SchoolNow
CALSCALE:GREGORIAN
BEGIN:VEVENT
UID:382c41ca-76e9-11ec-8ae4-0e96310e8401
DTSTAMP:20220116T162738Z
SUMMARY:Kid's Intro to Tennis
LOCATION:Tennis Courts
URL;VALUE=URI:https://www.wildernesslakecdd.org/calendar/3075643/kids-intro
 -to-tennis
DTSTART:20220205T140000Z
DTEND:20220205T160000Z
END:VEVENT
END:VCALENDAR
