BEGIN:VCALENDAR
VERSION:2.0
PRODID:SchoolNow
CALSCALE:GREGORIAN
BEGIN:VEVENT
UID:1c6e30a4-7678-11ec-b5d6-0e74578dc623
DTSTAMP:20220116T025758Z
SUMMARY:Walking\, Toning\, and Strengthening Class
LOCATION:Activities Center
URL;VALUE=URI:https://www.wildernesslakecdd.org/calendar/3075557/walking-to
 ning-and-strengthening-class
DTSTART:20220121T143000Z
DTEND:20220121T154500Z
END:VEVENT
END:VCALENDAR
