BEGIN:VCALENDAR
VERSION:2.0
PRODID:SchoolNow
CALSCALE:GREGORIAN
BEGIN:VEVENT
UID:46a2ac26-7676-11ec-860d-020358b722fd
DTSTAMP:20220116T024450Z
SUMMARY:Grill & Chill
URL;VALUE=URI:https://www.wildernesslakecdd.org/calendar/3075556/grill-chil
 l
DTSTART:20220211T230000Z
DTEND:20220212T010000Z
END:VEVENT
END:VCALENDAR
