BEGIN:VCALENDAR
VERSION:2.0
PRODID:SchoolNow
CALSCALE:GREGORIAN
BEGIN:VEVENT
UID:cb0ee32c-7675-11ec-a4ed-0e96310e8401
DTSTAMP:20220116T024123Z
SUMMARY:A Wine Tasting of Italian Vino
LOCATION:Activities Center
URL;VALUE=URI:https://www.wildernesslakecdd.org/calendar/3075555/a-wine-tas
 ting-of-italian-vino
DTSTART:20220204T230000Z
DTEND:20220205T013000Z
END:VEVENT
END:VCALENDAR
