BEGIN:VCALENDAR
VERSION:2.0
PRODID:SchoolNow
CALSCALE:GREGORIAN
BEGIN:VEVENT
UID:0df39d32-7675-11ec-9943-020358b722fd
DTSTAMP:20220116T162926Z
SUMMARY:Art Class
URL;VALUE=URI:https://www.wildernesslakecdd.org/calendar/3075554/art-class
DTSTART:20220122T170000Z
DTEND:20220122T200000Z
END:VEVENT
END:VCALENDAR
