BEGIN:VCALENDAR
VERSION:2.0
PRODID:SchoolNow
CALSCALE:GREGORIAN
BEGIN:VEVENT
UID:df234e1c-7674-11ec-b545-020358b722fd
DTSTAMP:20220116T023447Z
SUMMARY:Kid's Intro to Tennis
LOCATION:Tennis Courts
URL;VALUE=URI:https://www.wildernesslakecdd.org/calendar/3075553/kids-intro
 -to-tennis
DTSTART:20220122T140000Z
DTEND:20220122T160000Z
END:VEVENT
END:VCALENDAR
