BEGIN:VCALENDAR
VERSION:2.0
PRODID:SchoolNow
CALSCALE:GREGORIAN
BEGIN:VEVENT
UID:aad0d8c8-7674-11ec-be94-020358b722fd
DTSTAMP:20220116T023319Z
SUMMARY:Family Movie Night
LOCATION:Theatre
URL;VALUE=URI:https://www.wildernesslakecdd.org/calendar/3075552/family-mov
 ie-night
DTSTART:20220122T000000Z
DTEND:20220122T020000Z
END:VEVENT
END:VCALENDAR
