BEGIN:VCALENDAR
VERSION:2.0
PRODID:SchoolNow
CALSCALE:GREGORIAN
BEGIN:VEVENT
UID:538a80a0-7674-11ec-800e-020358b722fd
DTSTAMP:20220116T025931Z
SUMMARY:Chat'hers Meet & Greet
LOCATION:Activities Center
URL;VALUE=URI:https://www.wildernesslakecdd.org/calendar/3075550/chathers-m
 eet-greet
DTSTART:20220120T170000Z
DTEND:20220120T200000Z
END:VEVENT
END:VCALENDAR
