BEGIN:VCALENDAR
VERSION:2.0
PRODID:SchoolNow
CALSCALE:GREGORIAN
BEGIN:VEVENT
UID:1a3bf4fa-7674-11ec-b6f6-020358b722fd
DTSTAMP:20220116T022917Z
SUMMARY:Yoga
LOCATION:Activities Center
URL;VALUE=URI:https://www.wildernesslakecdd.org/calendar/3075549/yoga
DTSTART:20220127T133000Z
DTEND:20220127T143000Z
END:VEVENT
END:VCALENDAR
