BEGIN:VCALENDAR
VERSION:2.0
PRODID:SchoolNow
CALSCALE:GREGORIAN
BEGIN:VEVENT
UID:02946c4c-7674-11ec-925c-020358b722fd
DTSTAMP:20220116T022837Z
SUMMARY:Yoga
LOCATION:Activities Center
URL;VALUE=URI:https://www.wildernesslakecdd.org/calendar/3075548/yoga
DTSTART:20220125T133000Z
DTEND:20220125T143000Z
END:VEVENT
END:VCALENDAR
