BEGIN:VCALENDAR
VERSION:2.0
PRODID:SchoolNow
CALSCALE:GREGORIAN
BEGIN:VEVENT
UID:ce8c1e86-7673-11ec-806f-020358b722fd
DTSTAMP:20220116T022748Z
SUMMARY:Yoga
LOCATION:Activities Center
URL;VALUE=URI:https://www.wildernesslakecdd.org/calendar/3075547/yoga
DTSTART:20220120T133000Z
DTEND:20220120T143000Z
END:VEVENT
END:VCALENDAR
