BEGIN:VCALENDAR
VERSION:2.0
PRODID:SchoolNow
CALSCALE:GREGORIAN
BEGIN:VEVENT
UID:3a42f9ac-7673-11ec-8d17-020358b722fd
DTSTAMP:20220116T022301Z
SUMMARY:HOA Meeting
LOCATION:Activities Center
URL;VALUE=URI:https://www.wildernesslakecdd.org/calendar/3075545/hoa-meetin
 g
DTSTART:20220125T233000Z
DTEND:20220126T013000Z
END:VEVENT
END:VCALENDAR
