BEGIN:VCALENDAR
VERSION:2.0
PRODID:SchoolNow
CALSCALE:GREGORIAN
BEGIN:VEVENT
UID:01d27a52-7673-11ec-935b-020358b722fd
DTSTAMP:20220116T022126Z
SUMMARY:Walking\, Toning\, and Strengthening Class
URL;VALUE=URI:https://www.wildernesslakecdd.org/calendar/3075544/walking-to
 ning-and-strengthening-class
DTSTART:20220119T143000Z
DTEND:20220119T154500Z
END:VEVENT
END:VCALENDAR
