BEGIN:VCALENDAR
VERSION:2.0
PRODID:SchoolNow
CALSCALE:GREGORIAN
BEGIN:VEVENT
UID:cee73628-7672-11ec-888f-020358b722fd
DTSTAMP:20220116T022001Z
SUMMARY:Bunco
LOCATION:Activities Center
URL;VALUE=URI:https://www.wildernesslakecdd.org/calendar/3075543/bunco
DTSTART:20220119T000000Z
DTEND:20220119T020000Z
END:VEVENT
END:VCALENDAR
