BEGIN:VCALENDAR
VERSION:2.0
PRODID:SchoolNow
CALSCALE:GREGORIAN
BEGIN:VEVENT
UID:774bc1fe-7672-11ec-a411-020358b722fd
DTSTAMP:20220116T022721Z
SUMMARY:Yoga
LOCATION:Activities Center
URL;VALUE=URI:https://www.wildernesslakecdd.org/calendar/3075542/yoga
DTSTART:20220118T133000Z
DTEND:20220118T143000Z
END:VEVENT
END:VCALENDAR
