BEGIN:VCALENDAR
VERSION:2.0
PRODID:SchoolNow
CALSCALE:GREGORIAN
BEGIN:VEVENT
UID:de13420a-7671-11ec-b58a-0eaba6d4782f
DTSTAMP:20220116T021806Z
SUMMARY:ARC Meeting
LOCATION:Activities Center
URL;VALUE=URI:https://www.wildernesslakecdd.org/calendar/3075541/arc-meetin
 g
DTSTART:20220117T233000Z
DTEND:20220118T010000Z
END:VEVENT
END:VCALENDAR
