BEGIN:VCALENDAR
VERSION:2.0
PRODID:SchoolNow
CALSCALE:GREGORIAN
BEGIN:VEVENT
UID:ab3047c0-7671-11ec-a878-0eaba6d4782f
DTSTAMP:20220116T022138Z
SUMMARY:Walking\, Toning\, and Strengthening Class
LOCATION:Activities Center
URL;VALUE=URI:https://www.wildernesslakecdd.org/calendar/3075540/walking-to
 ning-and-strength-class
DTSTART:20220117T140000Z
DTEND:20220117T154500Z
END:VEVENT
END:VCALENDAR
