BEGIN:VCALENDAR
VERSION:2.0
PRODID:SchoolNow
CALSCALE:GREGORIAN
BEGIN:VEVENT
UID:61d228c4-7670-11ec-9fd4-0eaba6d4782f
DTSTAMP:20220116T020239Z
SUMMARY:Movie Night
LOCATION:Theatre
URL;VALUE=URI:https://www.wildernesslakecdd.org/calendar/3075538/movie-nigh
 t
DTSTART:20220117T230000Z
DTEND:20220118T010000Z
END:VEVENT
END:VCALENDAR
