BEGIN:VCALENDAR
VERSION:2.0
PRODID:SchoolNow
CALSCALE:GREGORIAN
BEGIN:VEVENT
UID:06a9068e-7670-11ec-bdfc-0eaba6d4782f
DTSTAMP:20220116T024552Z
SUMMARY:Story Time for Tots and Picture Frame Decorating
LOCATION:Nature Center
URL;VALUE=URI:https://www.wildernesslakecdd.org/calendar/3075537/story-time
 -for-tots
DTSTART:20220117T150000Z
DTEND:20220117T160000Z
END:VEVENT
END:VCALENDAR
