BEGIN:VCALENDAR
VERSION:2.0
PRODID:SchoolNow
CALSCALE:GREGORIAN
BEGIN:VEVENT
UID:0e9a944c-3ff3-11ec-bb03-02c234525075
DTSTAMP:20211109T144623Z
SUMMARY:NXT Generation Food Truck
LOCATION:Lodge
URL;VALUE=URI:https://www.wildernesslakecdd.org/calendar/2876473/nxt-genera
 tion-food-truck
DTSTART:20211112T210000Z
DTEND:20211113T010000Z
END:VEVENT
END:VCALENDAR
