BEGIN:VCALENDAR
VERSION:2.0
PRODID:SchoolNow
CALSCALE:GREGORIAN
BEGIN:VEVENT
UID:f70eb74e-3f3f-11ec-8579-02c21c5ff41f
DTSTAMP:20211106T202730Z
SUMMARY:Water Aerobics
LOCATION:Lap Pool
URL;VALUE=URI:https://www.wildernesslakecdd.org/calendar/2875151/water-aero
 bics
DTSTART:20211108T140000Z
DTEND:20211108T150000Z
END:VEVENT
END:VCALENDAR
