BEGIN:VCALENDAR
VERSION:2.0
PRODID:SchoolNow
CALSCALE:GREGORIAN
BEGIN:VEVENT
UID:6c2ccfae-3f25-11ec-8eb2-0e592611da61
DTSTAMP:20211107T174551Z
SUMMARY:Annual Art & Craft Fair
URL;VALUE=URI:https://www.wildernesslakecdd.org/calendar/2874766/annual-art
 -craft-fair
DTSTART:20211113T150000Z
DTEND:20211113T200000Z
END:VEVENT
END:VCALENDAR
