BEGIN:VCALENDAR
VERSION:2.0
PRODID:SchoolNow
CALSCALE:GREGORIAN
BEGIN:VEVENT
UID:b1273814-165e-11ec-af59-0af3c840bf17
DTSTAMP:20210915T195545Z
SUMMARY:Yoga
URL;VALUE=URI:https://www.wildernesslakecdd.org/calendar/2740039/yoga
DTSTART:20210916T123000Z
DTEND:20210916T133000Z
END:VEVENT
END:VCALENDAR
