BEGIN:VCALENDAR
VERSION:2.0
PRODID:SchoolNow
CALSCALE:GREGORIAN
BEGIN:VEVENT
UID:885372e0-165e-11ec-b794-0af3c840bf17
DTSTAMP:20210915T195301Z
SUMMARY:Water Aerobics
URL;VALUE=URI:https://www.wildernesslakecdd.org/calendar/2740038/water-aero
 bics
DTSTART:20210930T130000Z
DTEND:20210930T140000Z
END:VEVENT
END:VCALENDAR
