BEGIN:VCALENDAR
VERSION:2.0
PRODID:SchoolNow
CALSCALE:GREGORIAN
BEGIN:VEVENT
UID:76546342-165e-11ec-8478-0af3c840bf17
DTSTAMP:20210915T195230Z
SUMMARY:Water Aerobics
URL;VALUE=URI:https://www.wildernesslakecdd.org/calendar/2740037/water-aero
 bics
DTSTART:20210929T130000Z
DTEND:20210929T140000Z
END:VEVENT
END:VCALENDAR
