BEGIN:VCALENDAR
VERSION:2.0
PRODID:SchoolNow
CALSCALE:GREGORIAN
BEGIN:VEVENT
UID:45cbe786-165e-11ec-9a2f-0af3c840bf17
DTSTAMP:20210915T195109Z
SUMMARY:Water Aerobics
URL;VALUE=URI:https://www.wildernesslakecdd.org/calendar/2740036/water-aero
 bics
DTSTART:20210928T130000Z
DTEND:20210928T140000Z
END:VEVENT
END:VCALENDAR
