BEGIN:VCALENDAR
VERSION:2.0
PRODID:SchoolNow
CALSCALE:GREGORIAN
BEGIN:VEVENT
UID:1ff7ae3c-165e-11ec-91ad-0af3c840bf17
DTSTAMP:20210915T195034Z
SUMMARY:Water Aerobics
URL;VALUE=URI:https://www.wildernesslakecdd.org/calendar/2740035/water-aero
 bics
DTSTART:20210927T130000Z
DTEND:20210927T140000Z
END:VEVENT
END:VCALENDAR
