BEGIN:VCALENDAR
VERSION:2.0
PRODID:SchoolNow
CALSCALE:GREGORIAN
BEGIN:VEVENT
UID:0bad7920-165e-11ec-8b37-0af3c840bf17
DTSTAMP:20210915T194932Z
SUMMARY:Water Aerobics
URL;VALUE=URI:https://www.wildernesslakecdd.org/calendar/2740034/water-aero
 bics
DTSTART:20210923T130000Z
DTEND:20210923T140000Z
END:VEVENT
END:VCALENDAR
