BEGIN:VCALENDAR
VERSION:2.0
PRODID:SchoolNow
CALSCALE:GREGORIAN
BEGIN:VEVENT
UID:ed21dee2-165d-11ec-b461-0af3c840bf17
DTSTAMP:20210915T194840Z
SUMMARY:Water Aerobics
URL;VALUE=URI:https://www.wildernesslakecdd.org/calendar/2740033/water-aero
 bics
DTSTART:20210924T130000Z
DTEND:20210924T140000Z
END:VEVENT
END:VCALENDAR
