BEGIN:VCALENDAR
VERSION:2.0
PRODID:SchoolNow
CALSCALE:GREGORIAN
BEGIN:VEVENT
UID:d3292ca2-165d-11ec-9f83-0af3c840bf17
DTSTAMP:20210915T194757Z
SUMMARY:Water Aerobics
URL;VALUE=URI:https://www.wildernesslakecdd.org/calendar/2740032/water-aero
 bics
DTSTART:20210922T130000Z
DTEND:20210922T140000Z
END:VEVENT
END:VCALENDAR
