BEGIN:VCALENDAR
VERSION:2.0
PRODID:SchoolNow
CALSCALE:GREGORIAN
BEGIN:VEVENT
UID:b6cbab34-165d-11ec-8a2e-0af3c840bf17
DTSTAMP:20210915T194709Z
SUMMARY:Water Aerobics
URL;VALUE=URI:https://www.wildernesslakecdd.org/calendar/2740031/water-aero
 bics
DTSTART:20210921T130000Z
DTEND:20210921T140000Z
END:VEVENT
END:VCALENDAR
