BEGIN:VCALENDAR
VERSION:2.0
PRODID:SchoolNow
CALSCALE:GREGORIAN
BEGIN:VEVENT
UID:9444e35a-165d-11ec-906a-0af3c840bf17
DTSTAMP:20210915T194611Z
SUMMARY:Water Aerobics
URL;VALUE=URI:https://www.wildernesslakecdd.org/calendar/2740030/water-aero
 bics
DTSTART:20210920T130000Z
DTEND:20210920T140000Z
END:VEVENT
END:VCALENDAR
