BEGIN:VCALENDAR
VERSION:2.0
PRODID:SchoolNow
CALSCALE:GREGORIAN
BEGIN:VEVENT
UID:67fa3aac-165d-11ec-b301-0af3c840bf17
DTSTAMP:20210915T194457Z
SUMMARY:Water Aerobics
URL;VALUE=URI:https://www.wildernesslakecdd.org/calendar/2740029/water-aero
 bics
DTSTART:20210917T130000Z
DTEND:20210917T140000Z
END:VEVENT
END:VCALENDAR
