BEGIN:VCALENDAR
VERSION:2.0
PRODID:SchoolNow
CALSCALE:GREGORIAN
BEGIN:VEVENT
UID:4581e376-165d-11ec-bd36-0af3c840bf17
DTSTAMP:20210915T194508Z
SUMMARY:Water Aerobics
URL;VALUE=URI:https://www.wildernesslakecdd.org/calendar/2740027/water-aero
 bics
DTSTART:20210916T130000Z
DTEND:20210916T140000Z
END:VEVENT
END:VCALENDAR
