BEGIN:VCALENDAR
VERSION:2.0
PRODID:SchoolNow
CALSCALE:GREGORIAN
BEGIN:VEVENT
UID:888b3db0-02c7-11ec-ab64-0ec8fca6a6c7
DTSTAMP:20210821T213415Z
SUMMARY:HOA Meeting
LOCATION:Activities Center
URL;VALUE=URI:https://www.wildernesslakecdd.org/calendar/2683670/hoa-meetin
 g
DTSTART:20211228T233000Z
DTEND:20211229T020000Z
END:VEVENT
END:VCALENDAR
