BEGIN:VCALENDAR
VERSION:2.0
PRODID:SchoolNow
CALSCALE:GREGORIAN
BEGIN:VEVENT
UID:694df85c-02c7-11ec-b4a2-0ec8fca6a6c7
DTSTAMP:20210821T213323Z
SUMMARY:Chat'hers Event
LOCATION:Activties Center
URL;VALUE=URI:https://www.wildernesslakecdd.org/calendar/2683669/chathers-e
 vent
DTSTART:20211210T233000Z
DTEND:20211211T020000Z
END:VEVENT
END:VCALENDAR
