BEGIN:VCALENDAR
VERSION:2.0
PRODID:SchoolNow
CALSCALE:GREGORIAN
BEGIN:VEVENT
UID:456933b6-02c7-11ec-962d-0ec8fca6a6c7
DTSTAMP:20210821T213222Z
SUMMARY:Lighting of the Menorah
LOCATION:Activities Center
URL;VALUE=URI:https://www.wildernesslakecdd.org/calendar/2683666/lighting-o
 f-the-menorah
DTSTART:20211128T230000Z
DTEND:20211129T010000Z
END:VEVENT
END:VCALENDAR
