BEGIN:VCALENDAR
VERSION:2.0
PRODID:SchoolNow
CALSCALE:GREGORIAN
BEGIN:VEVENT
UID:bc7a2d58-02c6-11ec-87bc-02e275fc532b
DTSTAMP:20211218T171854Z
SUMMARY:Breakfast with Santa
URL;VALUE=URI:https://www.wildernesslakecdd.org/calendar/2683664/breakfast-
 with-santa
DTSTART:20211218T140000Z
DTEND:20211218T170000Z
END:VEVENT
END:VCALENDAR
