BEGIN:VCALENDAR
VERSION:2.0
PRODID:SchoolNow
CALSCALE:GREGORIAN
BEGIN:VEVENT
UID:9af35baa-02c6-11ec-8884-02e275fc532b
DTSTAMP:20211107T175548Z
SUMMARY:Santa's Arrival & Tree Lighting
URL;VALUE=URI:https://www.wildernesslakecdd.org/calendar/2683663/santas-arr
 ival-tree-lighting
DTSTART:20211204T210000Z
DTEND:20211205T010000Z
END:VEVENT
END:VCALENDAR
