BEGIN:VCALENDAR
VERSION:2.0
PRODID:SchoolNow
CALSCALE:GREGORIAN
BEGIN:VEVENT
UID:7a959bd4-02c6-11ec-8da2-02e275fc532b
DTSTAMP:20210821T212642Z
SUMMARY:Movie Night
LOCATION:Theatre
URL;VALUE=URI:https://www.wildernesslakecdd.org/calendar/2683662/movie-nigh
 t
DTSTART:20211129T230000Z
DTEND:20211130T010000Z
END:VEVENT
END:VCALENDAR
